BEGIN:VCALENDAR
VERSION:2.0
PRODID:-//New Summit Charter Academy - ECPv6.15.18//NONSGML v1.0//EN
CALSCALE:GREGORIAN
METHOD:PUBLISH
X-WR-CALNAME:New Summit Charter Academy
X-ORIGINAL-URL:https://www.newsummitcharter.org
X-WR-CALDESC:Events for New Summit Charter Academy
REFRESH-INTERVAL;VALUE=DURATION:PT1H
X-Robots-Tag:noindex
X-PUBLISHED-TTL:PT1H
BEGIN:VTIMEZONE
TZID:America/Denver
BEGIN:DAYLIGHT
TZOFFSETFROM:-0700
TZOFFSETTO:-0600
TZNAME:MDT
DTSTART:20240310T090000
END:DAYLIGHT
BEGIN:STANDARD
TZOFFSETFROM:-0600
TZOFFSETTO:-0700
TZNAME:MST
DTSTART:20241103T080000
END:STANDARD
BEGIN:DAYLIGHT
TZOFFSETFROM:-0700
TZOFFSETTO:-0600
TZNAME:MDT
DTSTART:20250309T090000
END:DAYLIGHT
BEGIN:STANDARD
TZOFFSETFROM:-0600
TZOFFSETTO:-0700
TZNAME:MST
DTSTART:20251102T080000
END:STANDARD
BEGIN:DAYLIGHT
TZOFFSETFROM:-0700
TZOFFSETTO:-0600
TZNAME:MDT
DTSTART:20260308T090000
END:DAYLIGHT
BEGIN:STANDARD
TZOFFSETFROM:-0600
TZOFFSETTO:-0700
TZNAME:MST
DTSTART:20261101T080000
END:STANDARD
END:VTIMEZONE
BEGIN:VEVENT
DTSTART;TZID=America/Denver:20250822T151500
DTEND;TZID=America/Denver:20250822T170000
DTSTAMP:20260419T185030
CREATED:20250815T160831Z
LAST-MODIFIED:20250815T160844Z
UID:1716-1755875700-1755882000@www.newsummitcharter.org
SUMMARY:Boys Soccer Practice
DESCRIPTION:Practice will be held at Ford Frick Park. \nHome field games will be at Mountain Ridge Middle School soccer fields.
URL:https://www.newsummitcharter.org/event/boys-soccer-practice-7/
LOCATION:Ford Frick Park\, 8101 N Union Blvd\, Colorado Springs\, CO\, United States
END:VEVENT
BEGIN:VEVENT
DTSTART;TZID=America/Denver:20250822T151500
DTEND;TZID=America/Denver:20250822T170000
DTSTAMP:20260419T185030
CREATED:20250815T160831Z
LAST-MODIFIED:20250815T160844Z
UID:1718-1755875700-1755882000@www.newsummitcharter.org
SUMMARY:Girls Volleyball Practice
DESCRIPTION:
URL:https://www.newsummitcharter.org/event/girls-volleyball-practice-6/
LOCATION:New Summit Charter Academy\, 7899 Lexington Dr\, Colorado Springs\, CO\, United States
END:VEVENT
BEGIN:VEVENT
DTSTART;VALUE=DATE:20250822
DTEND;VALUE=DATE:20250823
DTSTAMP:20260419T185030
CREATED:20250624T015302Z
LAST-MODIFIED:20250815T160844Z
UID:830-1755820800-1755907199@www.newsummitcharter.org
SUMMARY:Elementary Testing Day
DESCRIPTION:
URL:https://www.newsummitcharter.org/event/elementary-testing-day/
LOCATION:New Summit Charter Academy\, 7899 Lexington Dr\, Colorado Springs\, CO\, United States
END:VEVENT
BEGIN:VEVENT
DTSTART;TZID=America/Denver:20250821T151500
DTEND;TZID=America/Denver:20250821T170000
DTSTAMP:20260419T185030
CREATED:20250815T160831Z
LAST-MODIFIED:20250815T160844Z
UID:1715-1755789300-1755795600@www.newsummitcharter.org
SUMMARY:Girls Volleyball Practice
DESCRIPTION:
URL:https://www.newsummitcharter.org/event/girls-volleyball-practice-5/
LOCATION:New Summit Charter Academy\, 7899 Lexington Dr\, Colorado Springs\, CO\, United States
END:VEVENT
BEGIN:VEVENT
DTSTART;TZID=America/Denver:20250821T151500
DTEND;TZID=America/Denver:20250821T170000
DTSTAMP:20260419T185030
CREATED:20250815T160830Z
LAST-MODIFIED:20250815T160830Z
UID:1713-1755789300-1755795600@www.newsummitcharter.org
SUMMARY:Boys Soccer Practice
DESCRIPTION:Practice will be held at Ford Frick Park. \nHome field games will be at Mountain Ridge Middle School soccer fields.
URL:https://www.newsummitcharter.org/event/boys-soccer-practice-5/
LOCATION:Ford Frick Park\, 8101 N Union Blvd\, Colorado Springs\, CO\, United States
END:VEVENT
BEGIN:VEVENT
DTSTART;TZID=America/Denver:20250820T160000
DTEND;TZID=America/Denver:20250820T190000
DTSTAMP:20260419T185030
CREATED:20250815T160831Z
LAST-MODIFIED:20250815T160831Z
UID:1717-1755705600-1755716400@www.newsummitcharter.org
SUMMARY:Girls Volleyball Scrimmage
DESCRIPTION:Home v PPSEL
URL:https://www.newsummitcharter.org/event/girls-volleyball-scrimmage-2/
LOCATION:New Summit Charter Academy\, 7899 Lexington Dr\, Colorado Springs\, CO\, United States
END:VEVENT
BEGIN:VEVENT
DTSTART;TZID=America/Denver:20250820T151500
DTEND;TZID=America/Denver:20250820T170000
DTSTAMP:20260419T185030
CREATED:20250815T160830Z
LAST-MODIFIED:20250815T160830Z
UID:1711-1755702900-1755709200@www.newsummitcharter.org
SUMMARY:Boys Soccer Practice
DESCRIPTION:Practice will be held at Ford Frick Park. \nHome field games will be at Mountain Ridge Middle School soccer fields.
URL:https://www.newsummitcharter.org/event/boys-soccer-practice-4/
LOCATION:Ford Frick Park\, 8101 N Union Blvd\, Colorado Springs\, CO\, United States
END:VEVENT
BEGIN:VEVENT
DTSTART;TZID=America/Denver:20250820T151500
DTEND;TZID=America/Denver:20250820T170000
DTSTAMP:20260419T185030
CREATED:20250624T015301Z
LAST-MODIFIED:20250721T213921Z
UID:822-1755702900-1755709200@www.newsummitcharter.org
SUMMARY:Soccer - Boys Practice
DESCRIPTION:Practice will be held at Ford Frick Park. \nHome field games will be at Mountain Ridge Middle School soccer fields.
URL:https://www.newsummitcharter.org/event/soccer-boys-practice-7/
LOCATION:Ford Frick Park\, 8101 N Union Blvd\, Colorado Springs\, CO\, United States
END:VEVENT
BEGIN:VEVENT
DTSTART;VALUE=DATE:20250820
DTEND;VALUE=DATE:20250821
DTSTAMP:20260419T185030
CREATED:20250624T015301Z
LAST-MODIFIED:20250815T160832Z
UID:823-1755648000-1755734399@www.newsummitcharter.org
SUMMARY:Early Release
DESCRIPTION:
URL:https://www.newsummitcharter.org/event/early-release/
LOCATION:CO
END:VEVENT
BEGIN:VEVENT
DTSTART;TZID=America/Denver:20250819T151500
DTEND;TZID=America/Denver:20250819T170000
DTSTAMP:20260419T185030
CREATED:20250815T160831Z
LAST-MODIFIED:20250815T160831Z
UID:1714-1755616500-1755622800@www.newsummitcharter.org
SUMMARY:Boys Soccer Practice
DESCRIPTION:Practice will be held at Ford Frick Park. \nHome field games will be at Mountain Ridge Middle School soccer fields.
URL:https://www.newsummitcharter.org/event/boys-soccer-practice-6/
LOCATION:Ford Frick Park\, 8101 N Union Blvd\, Colorado Springs\, CO\, United States
END:VEVENT
BEGIN:VEVENT
DTSTART;TZID=America/Denver:20250819T151500
DTEND;TZID=America/Denver:20250819T170000
DTSTAMP:20260419T185030
CREATED:20250815T160830Z
LAST-MODIFIED:20250815T160830Z
UID:1712-1755616500-1755622800@www.newsummitcharter.org
SUMMARY:Girls Volleyball Practice
DESCRIPTION:
URL:https://www.newsummitcharter.org/event/girls-volleyball-practice-4/
LOCATION:New Summit Charter Academy\, 7899 Lexington Dr\, Colorado Springs\, CO\, United States
END:VEVENT
BEGIN:VEVENT
DTSTART;TZID=America/Denver:20250819T151500
DTEND;TZID=America/Denver:20250819T170000
DTSTAMP:20260419T185030
CREATED:20250815T160830Z
LAST-MODIFIED:20250815T160830Z
UID:1708-1755616500-1755622800@www.newsummitcharter.org
SUMMARY:Boys Soccer Practice
DESCRIPTION:Practice will be held at Ford Frick Park. \nHome field games will be at Mountain Ridge Middle School soccer fields.
URL:https://www.newsummitcharter.org/event/boys-soccer-practice-2/
LOCATION:Ford Frick Park\, 8101 N Union Blvd\, Colorado Springs\, CO\, United States
END:VEVENT
BEGIN:VEVENT
DTSTART;TZID=America/Denver:20250819T151500
DTEND;TZID=America/Denver:20250819T170000
DTSTAMP:20260419T185030
CREATED:20250815T160829Z
LAST-MODIFIED:20250815T160829Z
UID:1706-1755616500-1755622800@www.newsummitcharter.org
SUMMARY:Girls Volleyball Practice
DESCRIPTION:
URL:https://www.newsummitcharter.org/event/girls-volleyball-practice-2/
LOCATION:New Summit Charter Academy\, 7899 Lexington Dr\, Colorado Springs\, CO\, United States
END:VEVENT
BEGIN:VEVENT
DTSTART;TZID=America/Denver:20250818T151500
DTEND;TZID=America/Denver:20250818T170000
DTSTAMP:20260419T185030
CREATED:20250815T160830Z
LAST-MODIFIED:20250815T160830Z
UID:1710-1755530100-1755536400@www.newsummitcharter.org
SUMMARY:Boys Soccer Practice
DESCRIPTION:Practice will be held at Ford Frick Park. \nHome field games will be at Mountain Ridge Middle School soccer fields.
URL:https://www.newsummitcharter.org/event/boys-soccer-practice-3/
LOCATION:Ford Frick Park\, 8101 N Union Blvd\, Colorado Springs\, CO\, United States
END:VEVENT
BEGIN:VEVENT
DTSTART;TZID=America/Denver:20250818T151500
DTEND;TZID=America/Denver:20250818T170000
DTSTAMP:20260419T185030
CREATED:20250815T160829Z
LAST-MODIFIED:20250815T160829Z
UID:1707-1755530100-1755536400@www.newsummitcharter.org
SUMMARY:Girls Volleyball Practice
DESCRIPTION:
URL:https://www.newsummitcharter.org/event/girls-volleyball-practice-3/
LOCATION:New Summit Charter Academy\, 7899 Lexington Dr\, Colorado Springs\, CO\, United States
END:VEVENT
BEGIN:VEVENT
DTSTART;TZID=America/Denver:20250818T151500
DTEND;TZID=America/Denver:20250818T170000
DTSTAMP:20260419T185030
CREATED:20250815T160829Z
LAST-MODIFIED:20250815T160829Z
UID:1704-1755530100-1755536400@www.newsummitcharter.org
SUMMARY:Girls Volleyball Practice
DESCRIPTION:
URL:https://www.newsummitcharter.org/event/girls-volleyball-practice/
LOCATION:New Summit Charter Academy\, 7899 Lexington Dr\, Colorado Springs\, CO\, United States
END:VEVENT
BEGIN:VEVENT
DTSTART;TZID=America/Denver:20250818T151500
DTEND;TZID=America/Denver:20250818T170000
DTSTAMP:20260419T185030
CREATED:20250815T160829Z
LAST-MODIFIED:20250815T160829Z
UID:1705-1755530100-1755536400@www.newsummitcharter.org
SUMMARY:Boys Soccer Practice
DESCRIPTION:Practice will be held at Ford Frick Park. \nHome field games will be at Mountain Ridge Middle School soccer fields.
URL:https://www.newsummitcharter.org/event/boys-soccer-practice/
LOCATION:Ford Frick Park\, 8101 N Union Blvd\, Colorado Springs\, CO\, United States
END:VEVENT
END:VCALENDAR