BEGIN:VCALENDAR
VERSION:2.0
PRODID:-//New Summit Charter Academy - ECPv6.15.18//NONSGML v1.0//EN
CALSCALE:GREGORIAN
METHOD:PUBLISH
X-WR-CALNAME:New Summit Charter Academy
X-ORIGINAL-URL:https://www.newsummitcharter.org
X-WR-CALDESC:Events for New Summit Charter Academy
REFRESH-INTERVAL;VALUE=DURATION:PT1H
X-Robots-Tag:noindex
X-PUBLISHED-TTL:PT1H
BEGIN:VTIMEZONE
TZID:America/Denver
BEGIN:DAYLIGHT
TZOFFSETFROM:-0700
TZOFFSETTO:-0600
TZNAME:MDT
DTSTART:20260308T090000
END:DAYLIGHT
BEGIN:STANDARD
TZOFFSETFROM:-0600
TZOFFSETTO:-0700
TZNAME:MST
DTSTART:20261101T080000
END:STANDARD
BEGIN:DAYLIGHT
TZOFFSETFROM:-0700
TZOFFSETTO:-0600
TZNAME:MDT
DTSTART:20270314T090000
END:DAYLIGHT
BEGIN:STANDARD
TZOFFSETFROM:-0600
TZOFFSETTO:-0700
TZNAME:MST
DTSTART:20271107T080000
END:STANDARD
BEGIN:DAYLIGHT
TZOFFSETFROM:-0700
TZOFFSETTO:-0600
TZNAME:MDT
DTSTART:20280312T090000
END:DAYLIGHT
BEGIN:STANDARD
TZOFFSETFROM:-0600
TZOFFSETTO:-0700
TZNAME:MST
DTSTART:20281105T080000
END:STANDARD
BEGIN:DAYLIGHT
TZOFFSETFROM:-0700
TZOFFSETTO:-0600
TZNAME:MDT
DTSTART:20290311T090000
END:DAYLIGHT
BEGIN:STANDARD
TZOFFSETFROM:-0600
TZOFFSETTO:-0700
TZNAME:MST
DTSTART:20291104T080000
END:STANDARD
END:VTIMEZONE
BEGIN:VEVENT
DTSTART;VALUE=DATE:20270105
DTEND;VALUE=DATE:20270106
DTSTAMP:20260422T163422
CREATED:20260422T162228Z
LAST-MODIFIED:20260422T162228Z
UID:5325-1799107200-1799193599@www.newsummitcharter.org
SUMMARY:Beginning of Q3
DESCRIPTION:
URL:https://www.newsummitcharter.org/event/beginning-of-q3/
LOCATION:CO
END:VEVENT
BEGIN:VEVENT
DTSTART;VALUE=DATE:20270106
DTEND;VALUE=DATE:20270107
DTSTAMP:20260422T163422
CREATED:20260422T162228Z
LAST-MODIFIED:20260422T162228Z
UID:5324-1799193600-1799279999@www.newsummitcharter.org
SUMMARY:Early Release
DESCRIPTION:
URL:https://www.newsummitcharter.org/event/early-release-26/
LOCATION:CO
END:VEVENT
BEGIN:VEVENT
DTSTART;VALUE=DATE:20270111
DTEND;VALUE=DATE:20270112
DTSTAMP:20260422T163422
CREATED:20250624T015321Z
LAST-MODIFIED:20260422T162228Z
UID:935-1799625600-1799711999@www.newsummitcharter.org
SUMMARY:National Marketing Day
DESCRIPTION:
URL:https://www.newsummitcharter.org/event/national-marketing-day-2/
LOCATION:CO
END:VEVENT
BEGIN:VEVENT
DTSTART;VALUE=DATE:20270118
DTEND;VALUE=DATE:20270119
DTSTAMP:20260422T163422
CREATED:20260422T162228Z
LAST-MODIFIED:20260422T162228Z
UID:5327-1800230400-1800316799@www.newsummitcharter.org
SUMMARY:MLK Day - No School
DESCRIPTION:
URL:https://www.newsummitcharter.org/event/mlk-day-no-school/
LOCATION:CO
END:VEVENT
BEGIN:VEVENT
DTSTART;VALUE=DATE:20270120
DTEND;VALUE=DATE:20270121
DTSTAMP:20260422T163422
CREATED:20260422T162229Z
LAST-MODIFIED:20260422T162229Z
UID:5328-1800403200-1800489599@www.newsummitcharter.org
SUMMARY:Early Release
DESCRIPTION:
URL:https://www.newsummitcharter.org/event/early-release-27/
LOCATION:CO
END:VEVENT
BEGIN:VEVENT
DTSTART;VALUE=DATE:20270122
DTEND;VALUE=DATE:20270123
DTSTAMP:20260422T163422
CREATED:20260422T162229Z
LAST-MODIFIED:20260422T162229Z
UID:5329-1800576000-1800662399@www.newsummitcharter.org
SUMMARY:Hearing & Vision Screening
DESCRIPTION:
URL:https://www.newsummitcharter.org/event/hearing-vision-screening/
LOCATION:CO
END:VEVENT
BEGIN:VEVENT
DTSTART;VALUE=DATE:20270203
DTEND;VALUE=DATE:20270204
DTSTAMP:20260422T163422
CREATED:20260422T162229Z
LAST-MODIFIED:20260422T162229Z
UID:5330-1801612800-1801699199@www.newsummitcharter.org
SUMMARY:Early Release
DESCRIPTION:
URL:https://www.newsummitcharter.org/event/early-release-28/
LOCATION:CO
END:VEVENT
BEGIN:VEVENT
DTSTART;VALUE=DATE:20270212
DTEND;VALUE=DATE:20270213
DTSTAMP:20260422T163422
CREATED:20260422T162229Z
LAST-MODIFIED:20260422T162229Z
UID:5331-1802390400-1802476799@www.newsummitcharter.org
SUMMARY:Professional Development - No Students
DESCRIPTION:
URL:https://www.newsummitcharter.org/event/professional-development-no-students-3/
LOCATION:CO
END:VEVENT
BEGIN:VEVENT
DTSTART;VALUE=DATE:20270215
DTEND;VALUE=DATE:20270216
DTSTAMP:20260422T163422
CREATED:20260422T162229Z
LAST-MODIFIED:20260422T162229Z
UID:5332-1802649600-1802735999@www.newsummitcharter.org
SUMMARY:Presidents' Day - No School
DESCRIPTION:
URL:https://www.newsummitcharter.org/event/presidents-day-no-school/
LOCATION:CO
END:VEVENT
BEGIN:VEVENT
DTSTART;VALUE=DATE:20270217
DTEND;VALUE=DATE:20270218
DTSTAMP:20260422T163422
CREATED:20260422T162229Z
LAST-MODIFIED:20260422T162229Z
UID:5333-1802822400-1802908799@www.newsummitcharter.org
SUMMARY:Early Release
DESCRIPTION:
URL:https://www.newsummitcharter.org/event/early-release-29/
LOCATION:CO
END:VEVENT
BEGIN:VEVENT
DTSTART;TZID=America/Denver:20270302T083000
DTEND;TZID=America/Denver:20270302T103000
DTSTAMP:20260422T163422
CREATED:20260422T162229Z
LAST-MODIFIED:20260422T162229Z
UID:5334-1803976200-1803983400@www.newsummitcharter.org
SUMMARY:Audiologist/third level screening
DESCRIPTION:
URL:https://www.newsummitcharter.org/event/audiologist-third-level-screening/
LOCATION:CO
END:VEVENT
BEGIN:VEVENT
DTSTART;VALUE=DATE:20270303
DTEND;VALUE=DATE:20270304
DTSTAMP:20260422T163422
CREATED:20260422T162229Z
LAST-MODIFIED:20260422T162229Z
UID:5335-1804032000-1804118399@www.newsummitcharter.org
SUMMARY:Early Release
DESCRIPTION:
URL:https://www.newsummitcharter.org/event/early-release-30/
LOCATION:CO
END:VEVENT
BEGIN:VEVENT
DTSTART;VALUE=DATE:20270312
DTEND;VALUE=DATE:20270313
DTSTAMP:20260422T163422
CREATED:20260422T162229Z
LAST-MODIFIED:20260422T162229Z
UID:5336-1804809600-1804895999@www.newsummitcharter.org
SUMMARY:End of Q3
DESCRIPTION:
URL:https://www.newsummitcharter.org/event/end-of-q3/
LOCATION:CO
END:VEVENT
BEGIN:VEVENT
DTSTART;VALUE=DATE:20270317
DTEND;VALUE=DATE:20270318
DTSTAMP:20260422T163422
CREATED:20260422T162229Z
LAST-MODIFIED:20260422T162229Z
UID:5339-1805241600-1805327999@www.newsummitcharter.org
SUMMARY:Early Release
DESCRIPTION:
URL:https://www.newsummitcharter.org/event/early-release-31/
LOCATION:CO
END:VEVENT
BEGIN:VEVENT
DTSTART;VALUE=DATE:20270318
DTEND;VALUE=DATE:20270319
DTSTAMP:20260422T163422
CREATED:20260422T162229Z
LAST-MODIFIED:20260422T162229Z
UID:5338-1805328000-1805414399@www.newsummitcharter.org
SUMMARY:Parent/Teacher Conferences - No Students
DESCRIPTION:
URL:https://www.newsummitcharter.org/event/parent-teacher-conferences-no-students-3/
LOCATION:CO
END:VEVENT
BEGIN:VEVENT
DTSTART;VALUE=DATE:20270319
DTEND;VALUE=DATE:20270320
DTSTAMP:20260422T163422
CREATED:20260422T162229Z
LAST-MODIFIED:20260422T162229Z
UID:5337-1805414400-1805500799@www.newsummitcharter.org
SUMMARY:Parent/Teacher Conferences - No Students
DESCRIPTION:
URL:https://www.newsummitcharter.org/event/parent-teacher-conferences-no-students-2/
LOCATION:CO
END:VEVENT
BEGIN:VEVENT
DTSTART;VALUE=DATE:20270322
DTEND;VALUE=DATE:20270327
DTSTAMP:20260422T163422
CREATED:20260422T162230Z
LAST-MODIFIED:20260422T162230Z
UID:5340-1805673600-1806105599@www.newsummitcharter.org
SUMMARY:Spring Break
DESCRIPTION:
URL:https://www.newsummitcharter.org/event/spring-break-2/
LOCATION:CO
END:VEVENT
BEGIN:VEVENT
DTSTART;VALUE=DATE:20270407
DTEND;VALUE=DATE:20270408
DTSTAMP:20260422T163422
CREATED:20260422T162230Z
LAST-MODIFIED:20260422T162230Z
UID:5341-1807056000-1807142399@www.newsummitcharter.org
SUMMARY:Early Release
DESCRIPTION:
URL:https://www.newsummitcharter.org/event/early-release-32/
LOCATION:CO
END:VEVENT
BEGIN:VEVENT
DTSTART;VALUE=DATE:20270421
DTEND;VALUE=DATE:20270422
DTSTAMP:20260422T163422
CREATED:20260422T162230Z
LAST-MODIFIED:20260422T162230Z
UID:5342-1808265600-1808351999@www.newsummitcharter.org
SUMMARY:Early Release
DESCRIPTION:
URL:https://www.newsummitcharter.org/event/early-release-33/
LOCATION:CO
END:VEVENT
BEGIN:VEVENT
DTSTART;VALUE=DATE:20270430
DTEND;VALUE=DATE:20270501
DTSTAMP:20260422T163422
CREATED:20260422T162230Z
LAST-MODIFIED:20260422T162230Z
UID:5343-1809043200-1809129599@www.newsummitcharter.org
SUMMARY:Elementary Testing Day - No Students
DESCRIPTION:
URL:https://www.newsummitcharter.org/event/elementary-testing-day-no-students/
LOCATION:CO
END:VEVENT
BEGIN:VEVENT
DTSTART;VALUE=DATE:20270505
DTEND;VALUE=DATE:20270506
DTSTAMP:20260422T163422
CREATED:20260422T162230Z
LAST-MODIFIED:20260422T162230Z
UID:5344-1809475200-1809561599@www.newsummitcharter.org
SUMMARY:Early Release
DESCRIPTION:
URL:https://www.newsummitcharter.org/event/early-release-34/
LOCATION:CO
END:VEVENT
BEGIN:VEVENT
DTSTART;VALUE=DATE:20270520
DTEND;VALUE=DATE:20270521
DTSTAMP:20260422T163422
CREATED:20260422T162230Z
LAST-MODIFIED:20260422T162230Z
UID:5345-1810771200-1810857599@www.newsummitcharter.org
SUMMARY:Early Release & Last Day for Students
DESCRIPTION:
URL:https://www.newsummitcharter.org/event/early-release-last-day-for-students/
LOCATION:CO
END:VEVENT
BEGIN:VEVENT
DTSTART;VALUE=DATE:20280111
DTEND;VALUE=DATE:20280112
DTSTAMP:20260422T163422
CREATED:20260120T171817Z
LAST-MODIFIED:20260422T162230Z
UID:3931-1831161600-1831247999@www.newsummitcharter.org
SUMMARY:National Marketing Day
DESCRIPTION:
URL:https://www.newsummitcharter.org/event/national-marketing-day-3/
LOCATION:CO
END:VEVENT
END:VCALENDAR